BEGIN:VCALENDAR
VERSION:2.0
PRODID:-//eventon.com NONSGML v1.0//EN
CALSCALE:GREGORIAN
METHOD:PUBLISH
BEGIN:VEVENT
UID:69e8d53ad96d0
DTSTAMP:20260422T140338Z
DTSTART:20260615T060000Z
DTEND:20260619T140000Z
LOCATION:Piloot Rotterdam
SUMMARY:Gedragsexperience Ronde 3 2025-2026
DESCRIPTION:Driegang heeft in overleg met SO De Piloot de mogelijkheid om i
 n het komende cursusjaar 3 keer mee te kunnen doen met de gedragsexperience
 . De training wordt verzorgd door trainers van SO De Piloot. Per ronde kun
 nen er 10 collega’s deelnemen\,  waarvan er nu 3 voor de Driegang regio b
 eschikbaar zijn;[..]\nhttps://driegang.nl/cursusaanbod/events/gedragsexperi
 ence-ronde-3-2025-2026/
URL:https://driegang.nl/cursusaanbod/events/gedragsexperience-ronde-3-2025-2026/
END:VEVENT
END:VCALENDAR