BEGIN:VCALENDAR
VERSION:2.0
PRODID:-//eventon.com NONSGML v1.0//EN
CALSCALE:GREGORIAN
METHOD:PUBLISH
BEGIN:VEVENT
UID:69e8d50c39e23
DTSTAMP:20260422T140252Z
DTSTART:20260506T130000Z
DTEND:20260506T153000Z
LOCATION:SWV Driegang Dokter van Stratenweg 15\,  4205 LA Gorinchem
SUMMARY:Gedrag\,  3x anders (voorjaar 2026)
DESCRIPTION:In deze training gaan we 3 dagdelen met dr. Kees van Overveld a
 an de slag met gedrag. Bijeenkomst 1: Gedrag en sociaal-emotioneel leren (S
 EL) Er is een sterke link tussen gedrag en sociaal-emotionele competenties 
 van leerlingen. Als je op een prettige manier met andere kinderen wenst om 
 te gaan (sociale[..]\nhttps://driegang.nl/cursusaanbod/events/gedrag-3x-and
 ers-copy/
URL:https://driegang.nl/cursusaanbod/events/gedrag-3x-anders-copy/
END:VEVENT
END:VCALENDAR