BEGIN:VCALENDAR
VERSION:2.0
PRODID:-//eventon.com NONSGML v1.0//EN
CALSCALE:GREGORIAN
METHOD:PUBLISH
BEGIN:VEVENT
UID:69e90799e9987
DTSTAMP:20260422T173833Z
DTSTART:20260401T133000Z
DTEND:20260401T151500Z
LOCATION:SWV Driegang Dokter van Stratenweg 15\,  4205 LA Gorinchem
SUMMARY:Passende leesbegeleiding (2e moment)
DESCRIPTION:Krijg je wel eens de vraag of je met een leerling wil gaan leze
 n? Krijg je wel eens de vraag of je de letters met een leerling wil oefenen
 ? In deze bijeenkomst gaan we met elkaar bespreken hoe je als onderwijsassi
 stent passende leesbegeleiding kan geven aan jouw leerling. Wat moet[..]\nh
 ttps://driegang.nl/cursusaanbod/events/passende-leesbegeleiding-copy/
URL:https://driegang.nl/cursusaanbod/events/passende-leesbegeleiding-copy/
END:VEVENT
END:VCALENDAR