BEGIN:VCALENDAR
VERSION:2.0
PRODID:-//eventon.com NONSGML v1.0//EN
CALSCALE:GREGORIAN
METHOD:PUBLISH
BEGIN:VEVENT
UID:69e8d509ddf0e
DTSTAMP:20260422T140249Z
DTSTART:20261007T130000Z
DTEND:20261007T183000Z
LOCATION:SWV Driegang Dokter van Stratenweg 15\,  4205 LA Gorinchem
SUMMARY:Leespraat
DESCRIPTION:De basisworkshop Leespraat is bedoeld voor ouders\,  leerkracht
 en\,  logopedisten en begeleiders van kinderen met het syndroom van Down en
  andere kinderen die gebaat zijn bij een visuele en kindgerichte aanpak. Ti
 jdens de workshop wordt een overzicht van de methode gegeven en worden de p
 raktische stappen gedemonstreerd. Er worden videofragmenten getoond[..]\nht
 tps://driegang.nl/cursusaanbod/events/leespraat-2026/
URL:https://driegang.nl/cursusaanbod/events/leespraat-2026/
END:VEVENT
END:VCALENDAR