BEGIN:VCALENDAR
VERSION:2.0
PRODID:-//eventon.com NONSGML v1.0//EN
CALSCALE:GREGORIAN
METHOD:PUBLISH
BEGIN:VEVENT
UID:69e8d50cb851c
DTSTAMP:20260422T140252Z
DTSTART:20261110T143000Z
DTEND:20261110T170000Z
LOCATION:Online (via Zoom)
SUMMARY:Rekenvoorbereiding van de Rekenlijn
DESCRIPTION:De Rekenlijn is een rekenmethode voor kinderen met Downsyndroom
  en andere kinderen die baat hebben bij het rekenen in kleine stapjes. Bij 
 Rekenvoorbereiding van de Rekenlijn wordt rekening gehouden met de sterke e
 n zwakke kanten van deze kinderen. De uitleg en de opbouw van de methode ga
 at uit van de[..]\nhttps://driegang.nl/cursusaanbod/events/rekenvoorbereidi
 ng-2026/
URL:https://driegang.nl/cursusaanbod/events/rekenvoorbereiding-2026/
END:VEVENT
END:VCALENDAR