BEGIN:VCALENDAR
VERSION:2.0
PRODID:-//eventon.com NONSGML v1.0//EN
CALSCALE:GREGORIAN
METHOD:PUBLISH
BEGIN:VEVENT
UID:69e8d50d31e11
DTSTAMP:20260422T140253Z
DTSTART:20261014T123000Z
DTEND:20261014T153000Z
LOCATION:SWV Driegang Dokter van Stratenweg 15\,  4205 LA Gorinchem
SUMMARY:Meidenvenijn
DESCRIPTION:De workshop ‘Van Venijn naar Kwaliteit’ geeft inzicht in he
 t fenomeen meidenvenijn\,  de meidenrollen en de wijze waarop je het meiden
 venijn kunt signaleren in klassen en groep(en). Het bijzondere van deze wor
 kshop is dat je\,  met collega’s onder elkaar\,  het gedrag en de groepsd
 ynamiek in meidengroepen nader bekijkt en bespreekt.[..]\nhttps://driegang.
 nl/cursusaanbod/events/meidenvenijn-2026/
URL:https://driegang.nl/cursusaanbod/events/meidenvenijn-2026/
END:VEVENT
END:VCALENDAR