BEGIN:VCALENDAR
VERSION:2.0
PRODID:-//eventon.com NONSGML v1.0//EN
CALSCALE:GREGORIAN
METHOD:PUBLISH
BEGIN:VEVENT
UID:69e8d3aeb395f
DTSTAMP:20260422T135702Z
DTSTART:20270107T173000Z
DTEND:20270107T200000Z
LOCATION:SWV Driegang Dokter van Stratenweg 15\,  4205 LA Gorinchem
SUMMARY:PRE-ACT
DESCRIPTION:Gedrag is hoe iemand handelt. Het is wat een persoon doet om ie
 ts te laten gebeuren\,  om iets te veranderen of om dingen hetzelfde te hou
 den. Gedrag is een reactie op dingen die gebeuren en dat kan een enorme uit
 daging zijn voor de persoon zelf en de omgeving. Wat vraagt[..]\nhttps://dr
 iegang.nl/cursusaanbod/events/pre-act-2/
URL:https://driegang.nl/cursusaanbod/events/pre-act-2/
END:VEVENT
END:VCALENDAR