BEGIN:VCALENDAR
VERSION:2.0
PRODID:-//eventon.com NONSGML v1.0//EN
CALSCALE:GREGORIAN
METHOD:PUBLISH
BEGIN:VEVENT
UID:69e8d53a715f3
DTSTAMP:20260422T140338Z
DTSTART:20260921T170000Z
DTEND:20260921T193000Z
LOCATION:SWV Driegang Dokter van Stratenweg 15\,  4205 LA Gorinchem
SUMMARY:Kleuters begeleiden bij spel in uitdagende hoeken
DESCRIPTION:BIJEENKOMST 1: Spelen in uitdagende hoeken &#8211; deel 1 Hoe r
 icht je uitdagende hoeken in\,  waar kinderen graag spelen én heel veel le
 ren? &nbsp; Bianca Oldenbeuving van JufBianca.nl en Kleuterwereld is expert
  op het gebied van de rijke leeromgeving. Na jarenlang voor de (kleuter)kla
 s gestaan te hebben\,  geeft ze nu[..]\nhttps://driegang.nl/cursusaanbod/ev
 ents/spelbegeleiding/
URL:https://driegang.nl/cursusaanbod/events/spelbegeleiding/
END:VEVENT
END:VCALENDAR