BEGIN:VCALENDAR
VERSION:2.0
PRODID:-//eventon.com NONSGML v1.0//EN
CALSCALE:GREGORIAN
METHOD:PUBLISH
BEGIN:VEVENT
UID:69e8d55fc63d6
DTSTAMP:20260422T140415Z
DTSTART:20261029T080000Z
DTEND:20261029T150000Z
LOCATION:SWV Driegang Dokter van Stratenweg 15\,  4205 LA Gorinchem
SUMMARY:Kanjertraining (basistraining)
DESCRIPTION:De basistraining voor het primair onderwijs is een driedaagse c
 ursus waarin de methodiek van de Kanjertraining wordt uitgelegd. De eerste 
 2 dagen worden vlak na elkaar gepland. Hierna kunnen leerkrachten met de me
 thode van start. Ongeveer 12 onderwijsweken later vindt de derde dag plaats
 . Na afloop van deze dag ontvangen[..]\nhttps://driegang.nl/cursusaanbod/ev
 ents/kanjertraining-basistraining/
URL:https://driegang.nl/cursusaanbod/events/kanjertraining-basistraining/
END:VEVENT
END:VCALENDAR