BEGIN:VCALENDAR
VERSION:2.0
PRODID:-//eventon.com NONSGML v1.0//EN
CALSCALE:GREGORIAN
METHOD:PUBLISH
BEGIN:VEVENT
UID:69e8d55d8732c
DTSTAMP:20260422T140413Z
DTSTART:20270113T120000Z
DTEND:20270113T190000Z
LOCATION:SWV Driegang Dokter van Stratenweg 15\,  4205 LA Gorinchem
SUMMARY:Kanjertraining (nascholing licentie B en C)
DESCRIPTION:Met de driedaagse basistraining voor het primair onderwijs hebb
 en leerkrachten een licentie behaald die 2 jaar geldig is. Hierna volgt een
  verplichte nascholingsdag (dag 4) waarmee licentie B behaald kan worden. D
 eze licentie is eveneens twee jaar geldig. Hierna wordt opnieuw een verplic
 hte nascholingsdag geboekt (dag 5). Na de vijfde[..]\nhttps://driegang.nl/c
 ursusaanbod/events/kanjertraining-nascholing-voor-licentie-b-en-c/
URL:https://driegang.nl/cursusaanbod/events/kanjertraining-nascholing-voor-licentie-b-en-c/
END:VEVENT
END:VCALENDAR