BEGIN:VCALENDAR
VERSION:2.0
PRODID:-//eventon.com NONSGML v1.0//EN
CALSCALE:GREGORIAN
METHOD:PUBLISH
BEGIN:VEVENT
UID:69e8d53c0c6eb
DTSTAMP:20260422T140340Z
DTSTART:20270121T180000Z
DTEND:20270121T200000Z
LOCATION:SWV Driegang Dokter van Stratenweg 15\,  4205 LA Gorinchem
SUMMARY:Het kindgesprek en hoorrecht
DESCRIPTION:Waar gaat het over? Een paradigmawisseling: Inclusie en het hoo
 rrecht van kinderen Belangrijk in het kader van inclusie en het hoorrecht i
 s dat kinderen zelf inzicht krijgen in hun kunnen\,  in hun niet kunnen en 
 in hun eigen leer- en ontwikkelproces. Er wordt een paradigmawisseling bepl
 eit van: “Als ik  als[..]\nhttps://driegang.nl/cursusaanbod/events/kindg
 esprek-en-hoorrecht/
URL:https://driegang.nl/cursusaanbod/events/kindgesprek-en-hoorrecht/
END:VEVENT
END:VCALENDAR