BEGIN:VCALENDAR
VERSION:2.0
PRODID:-//eventon.com NONSGML v1.0//EN
CALSCALE:GREGORIAN
METHOD:PUBLISH
BEGIN:VEVENT
UID:69e8d509a6a14
DTSTAMP:20260422T140249Z
DTSTART:20261102T180000Z
DTEND:20261102T200000Z
LOCATION:SWV Driegang Dokter van Stratenweg 15\,  4205 LA Gorinchem
SUMMARY:Omgaan met moeilijk/ongewenst gedrag in de klas\,  zonder te belonen of te straffen
DESCRIPTION:Waar gaat het over? Centraal staat dat het kind ongeacht zijn e
 ventuele problematiek verantwoordelijk is voor zijn eigen gedrag en leren. 
 Maken we de leerling dan ook verantwoordelijk voor zijn gedrag\,  dat wil h
 ij best\,  als hij maar van ons het gereedschap (zijn eigen talenten en kwa
 liteiten) heeft gekregen om[..]\nhttps://driegang.nl/cursusaanbod/events/om
 gaan-met-moeilijk-ongewenst-gedrag-in-de-klas-zonder-te-belonen-of-te-straf
 fen/
URL:https://driegang.nl/cursusaanbod/events/omgaan-met-moeilijk-ongewenst-gedrag-in-de-klas-zonder-te-belonen-of-te-straffen/
END:VEVENT
END:VCALENDAR