BEGIN:VCALENDAR
VERSION:2.0
PRODID:-//eventon.com NONSGML v1.0//EN
CALSCALE:GREGORIAN
METHOD:PUBLISH
BEGIN:VEVENT
UID:69e8d53a4e56e
DTSTAMP:20260422T140338Z
DTSTART:20260908T170000Z
DTEND:20260908T190000Z
LOCATION:SWV Driegang Dokter van Stratenweg 15\,  4205 LA Gorinchem
SUMMARY:De inclusieve school begint bij de kleuters
DESCRIPTION:Waar gaat het over? Het doel van inclusief onderwijs is dat lee
 rlingen met en zonder ondersteuningsbehoeften vaker samen\,  dichtbij huis\
 ,  naar dezelfde school kunnen. Ze zitten zoveel mogelijk in dezelfde klas 
 en ze kunnen elkaar ontmoeten op het schoolplein. De streefdatum om inclusi
 ef onderwijs te hebben gerealiseerd is 2035. Dit[..]\nhttps://driegang.nl/c
 ursusaanbod/events/inclusieve-school-begint-bij-de-kleuters/
URL:https://driegang.nl/cursusaanbod/events/inclusieve-school-begint-bij-de-kleuters/
END:VEVENT
END:VCALENDAR