BEGIN:VCALENDAR
VERSION:2.0
PRODID:-//eventon.com NONSGML v1.0//EN
CALSCALE:GREGORIAN
METHOD:PUBLISH
BEGIN:VEVENT
UID:69e8d55d861da
DTSTAMP:20260422T140413Z
DTSTART:20261105T083000Z
DTEND:20261105T153000Z
LOCATION:SWV Driegang Dokter van Stratenweg 15\,  4205 LA Gorinchem
SUMMARY:HGW\,  hoe neem ik mijn team\,  ouders en leerlingen mee?
DESCRIPTION:Om optimaal te kunnen profiteren van deze cursus\,  is het nood
 zakelijk dat je de training Leerkracht Centraal hebt gevolgd. Er zijn verwi
 jzingen naar Leerkracht Centraal en er wordt voortgebouwd op jullie kennis 
 van en ervaringen met Leerkracht Centraal. De cursus HGW is een mooi vervol
 g op Leerkracht Centraal. Daarnaast wil[..]\nhttps://driegang.nl/cursusaanb
 od/events/hgw-2026/
URL:https://driegang.nl/cursusaanbod/events/hgw-2026/
END:VEVENT
END:VCALENDAR