BEGIN:VCALENDAR
VERSION:2.0
PRODID:-//eventon.com NONSGML v1.0//EN
CALSCALE:GREGORIAN
METHOD:PUBLISH
BEGIN:VEVENT
UID:69e8d50dd0da6
DTSTAMP:20260422T140253Z
DTSTART:20260915T163000Z
DTEND:20260915T193000Z
LOCATION:SWV Driegang Dokter van Stratenweg 15\,  4205 LA Gorinchem
SUMMARY:Basiscursus Expliciete Directe Instructie (EDI)
DESCRIPTION:Basiscursus Expliciete Directe Instructie (EDI) Onderwijsonderz
 oek van de afgelopen eeuw laat bij herhaling zien dat Directe Instructie he
 t leren van kinderen versnelt en versterkt. Leerlingen beschikken niet alle
 en over meer kennis\,  maar ook hun probleemoplossend vermogen en zelfvertr
 ouwen nemen toe als de leerkracht Directe Instructie toepast in de lessen. 
 Hoe[..]\nhttps://driegang.nl/cursusaanbod/events/expliciete-directe-instruc
 tie/
URL:https://driegang.nl/cursusaanbod/events/expliciete-directe-instructie/
END:VEVENT
END:VCALENDAR