BEGIN:VCALENDAR
VERSION:2.0
PRODID:-//eventon.com NONSGML v1.0//EN
CALSCALE:GREGORIAN
METHOD:PUBLISH
BEGIN:VEVENT
UID:69e8d53b9396f
DTSTAMP:20260422T140339Z
DTSTART:20260914T163000Z
DTEND:20260914T193000Z
LOCATION:SWV Driegang Dokter van Stratenweg 15\,  4205 LA Gorinchem
SUMMARY:Basiscursus Doordacht Passend Lesmodel (DPL)
DESCRIPTION:Basiscursus Doordacht Passend Lesmodel (DPL) Bij het geven van 
 effectieve lessen is het lesmodel Doordacht Passend Lesgeven een succesvol 
 instrument. Dit model zal tijdens dit traject dienen als de kapstok waaraan
  praktische vaardigheden (hoe) uit Teach Like a Champion en Coöperatief le
 ren kunnen worden &#8216;opgehangen&#8217; en de theorie (waarom) vanuit[..
 ]\nhttps://driegang.nl/cursusaanbod/events/dpl/
URL:https://driegang.nl/cursusaanbod/events/dpl/
END:VEVENT
END:VCALENDAR