BEGIN:VCALENDAR
VERSION:2.0
PRODID:-//eventon.com NONSGML v1.0//EN
CALSCALE:GREGORIAN
METHOD:PUBLISH
BEGIN:VEVENT
UID:69e8d506d1ec2
DTSTAMP:20260422T140246Z
DTSTART:20261007T163000Z
DTEND:20261007T190000Z
LOCATION:SWV Driegang Dokter van Stratenweg 15\,  4205 LA Gorinchem
SUMMARY:Workshop Beeldend Vertellen
DESCRIPTION:Workshop Beeldend Vertellen Verhalen die blijven hangen – in 
 de klas én daarbuiten Hoe vertel je een verhaal zó dat leerlingen het nie
 t alleen horen\,  maar ook zien\,  voelen en onthouden? In deze workshop Be
 eldend Vertellen ontdek je hoe je verhalen tot leven brengt met taal\,  ste
 m\,  lichaam en verbeeldingskracht.[..]\nhttps://driegang.nl/cursusaanbod/e
 vents/beeldend-vertellen/
URL:https://driegang.nl/cursusaanbod/events/beeldend-vertellen/
END:VEVENT
END:VCALENDAR