BEGIN:VCALENDAR
VERSION:2.0
PRODID:-//eventon.com NONSGML v1.0//EN
CALSCALE:GREGORIAN
METHOD:PUBLISH
BEGIN:VEVENT
UID:69e8d53a45a52
DTSTAMP:20260422T140338Z
DTSTART:20260930T130000Z
DTEND:20260930T153000Z
LOCATION:SWV Driegang Dokter van Stratenweg 15\,  4205 LA Gorinchem
SUMMARY:Gedrag... 3x anders
DESCRIPTION:In deze training gaan we 3 dagdelen met dr. Kees van Overveld a
 an de slag met gedrag. &nbsp; Bijeenkomst 1: Gedrag en sociaal-emotioneel l
 eren (SEL) Er is een sterke link tussen gedrag en sociaal-emotionele compet
 enties van leerlingen. Als je op een prettige manier met andere kinderen we
 nst om te gaan[..]\nhttps://driegang.nl/cursusaanbod/events/gedrag-3x-ander
 s-najaar-2026/
URL:https://driegang.nl/cursusaanbod/events/gedrag-3x-anders-najaar-2026/
END:VEVENT
END:VCALENDAR