BEGIN:VCALENDAR
VERSION:2.0
PRODID:-//eventon.com NONSGML v1.0//EN
CALSCALE:GREGORIAN
METHOD:PUBLISH
BEGIN:VEVENT
UID:69e8d50eed762
DTSTAMP:20260422T140254Z
DTSTART:20260910T063000Z
DTEND:20260910T113000Z
LOCATION:SWV Driegang Dokter van Stratenweg 15\,  4205 LA Gorinchem
SUMMARY:ParnasSys - Aan de slag met het LAS
DESCRIPTION:ParnasSys is naast het leerlingvolgsysteem ook het leerlingadmi
 nistratiesysteem. Tijdens deze cursusdag leren we het complete  administra
 tieve deel van ParnasSys in te richten (onder beheer) en in de dagelijkse p
 raktijk te gebruiken. We maken deze dag met elkaar een administratieve jaar
 kalender. Op deze manier heb je aan het einde van de[..]\nhttps://driegang.
 nl/cursusaanbod/events/parnassys-las/
URL:https://driegang.nl/cursusaanbod/events/parnassys-las/
END:VEVENT
END:VCALENDAR