BEGIN:VCALENDAR
VERSION:2.0
PRODID:-//eventon.com NONSGML v1.0//EN
CALSCALE:GREGORIAN
METHOD:PUBLISH
BEGIN:VEVENT
UID:69e8d50e5fe50
DTSTAMP:20260422T140254Z
DTSTART:20270106T140000Z
DTEND:20270106T170000Z
LOCATION:SWV Driegang Dokter van Stratenweg 15\,  4205 LA Gorinchem
SUMMARY:Communicatie met ouders
DESCRIPTION:Communicatie met ouders kan heel uitdagend zijn. Soms lopen ges
 prekken vast\,  worden emoties groot of lijkt het alsof je recht tegenover 
 elkaar staat. Dat geeft stress en kan veel energie kosten. Toch willen oude
 rs en school hetzelfde: dat het kind zich zo goed mogelijk ontwikkelt. De k
 unst is om juist[..]\nhttps://driegang.nl/cursusaanbod/events/communicatie-
 met-ouders/
URL:https://driegang.nl/cursusaanbod/events/communicatie-met-ouders/
END:VEVENT
END:VCALENDAR