BEGIN:VCALENDAR
VERSION:2.0
PRODID:-//eventon.com NONSGML v1.0//EN
CALSCALE:GREGORIAN
METHOD:PUBLISH
BEGIN:VEVENT
UID:69e8d3afd1367
DTSTAMP:20260422T135703Z
DTSTART:20270302T143000Z
DTEND:20270302T163000Z
LOCATION:SWV Driegang Dokter van Stratenweg 15\,  4205 LA Gorinchem
SUMMARY:Referentieniveaus en het onderwijsresultatenmodel
DESCRIPTION:In deze scholing gaan we praktisch aan de slag met het uitwerke
 n en uitlezen van referentieniveaus en het onderwijsresultatenmodel. We geb
 ruiken hiervoor de gegevens in Ultimview van ParnasSys. Doelgroep: Deze sch
 oling is bedoeld voor directeuren\,  bestuurders\,  ib&#8217;ers/kc&#8217;e
 rs\,  reken- en taalcoördinatoren en beleidsmedewerkers. Doelen en inhoud:
  We vertellen je meer over[..]\nhttps://driegang.nl/cursusaanbod/events/ult
 imview/
URL:https://driegang.nl/cursusaanbod/events/ultimview/
END:VEVENT
END:VCALENDAR