BEGIN:VCALENDAR
VERSION:2.0
PRODID:-//eventon.com NONSGML v1.0//EN
CALSCALE:GREGORIAN
METHOD:PUBLISH
BEGIN:VEVENT
UID:69e8d508363e2
DTSTAMP:20260422T140248Z
DTSTART:20260923T150000Z
DTEND:20260923T160000Z
LOCATION:CBS &#039;t Kompas / OBS Sigmondschool in Werkendam Hooftlanden 1\,  4251 BE Werkendam / H.J. Roubosstraat 5\,  4251 BZ Werkendam
SUMMARY:Ronde 2: Haal alles uit je groepskaart van ParnasSys
DESCRIPTION:RONDE 2: 17.00 &#8211; 18.00 uur : Haal alles uit je groepskaar
 t van ParnasSys Alle scholen binnen onze regio werken met ParnasSys. In dez
 e workshop van 1 uur presenteren we je hoe je ParnasSys zo kunt gebruiken d
 at er voor de organisatie van de extra ondersteuning geen extra administrat
 ie gevoerd[..]\nhttps://driegang.nl/cursusaanbod/events/ronde-2-groepskaart
 /
URL:https://driegang.nl/cursusaanbod/events/ronde-2-groepskaart/
END:VEVENT
END:VCALENDAR