BEGIN:VCALENDAR
VERSION:2.0
PRODID:-//eventon.com NONSGML v1.0//EN
CALSCALE:GREGORIAN
METHOD:PUBLISH
BEGIN:VEVENT
UID:69e8d50d4fde6
DTSTAMP:20260422T140253Z
DTSTART:20260923T150000Z
DTEND:20260923T160000Z
LOCATION:CBS &#039;t Kompas / OBS Sigmondschool in Werkendam Hooftlanden 1\,  4251 BE Werkendam / H.J. Roubosstraat 5\,  4251 BZ Werkendam
SUMMARY:Ronde 2: Effectief handelen met het 'three tier model' in jouw groep
DESCRIPTION:RONDE 2: 17.00 &#8211; 18.00 uur : Effectief handelen met het &
 #8217;three tier model&#8217; in jouw groep Voelt het soms alsof je alleen 
 maar brandjes blust in je groep? Alsof je de hele dag overal nodig bent? I
 n deze workshop maak je kennis met het three tier model: een middel om[..]\
 nhttps://driegang.nl/cursusaanbod/events/effectief-handelen-met-het-three-t
 ier-model-ronde-2/
URL:https://driegang.nl/cursusaanbod/events/effectief-handelen-met-het-three-tier-model-ronde-2/
END:VEVENT
END:VCALENDAR