BEGIN:VCALENDAR
VERSION:2.0
PRODID:-//eventon.com NONSGML v1.0//EN
CALSCALE:GREGORIAN
METHOD:PUBLISH
BEGIN:VEVENT
UID:69e8d53b23045
DTSTAMP:20260422T140339Z
DTSTART:20260923T140000Z
DTEND:20260923T150000Z
LOCATION:CBS &#039;t Kompas / OBS Sigmondschool in Werkendam Hooftlanden 1\,  4251 BE Werkendam / H.J. Roubosstraat 5\,  4251 BZ Werkendam
SUMMARY:Ronde 1: Kennismaken met Driegang - voor nieuwe directeuren en ib'ers
DESCRIPTION:RONDE 1: 16.00 &#8211; 17.00 uur : Kennismaken met Driegang &#8
 211; voor nieuwe directeuren en ib&#8217;ers In onze regio zijn er dit jaar
  heel veel nieuwe directeuren en intern begeleiders / kwaliteitscoördinato
 ren gestart. Jij bent een van deze collega&#8217;s. Meer dan welkom en wat 
 fijn dat je mee wilt bouwen[..]\nhttps://driegang.nl/cursusaanbod/events/ni
 euw-binnen-de-driegangregio/
URL:https://driegang.nl/cursusaanbod/events/nieuw-binnen-de-driegangregio/
END:VEVENT
END:VCALENDAR