BEGIN:VCALENDAR
VERSION:2.0
PRODID:-//eventon.com NONSGML v1.0//EN
CALSCALE:GREGORIAN
METHOD:PUBLISH
BEGIN:VEVENT
UID:69e8d53c9d262
DTSTAMP:20260422T140340Z
DTSTART:20270301T180000Z
DTEND:20270301T200000Z
LOCATION:SWV Driegang Dokter van Stratenweg 15\,  4205 LA Gorinchem
SUMMARY:Rouw in de klas
DESCRIPTION:Over deze cursus “Rouw? Dat is toch voor thuis\,  niet voor s
 chool.” Was het maar zo simpel. Rouw en verlies laten zich niet bij de sc
 hooldeur achter. Ze lopen mee de klas in\,  zitten naast een leerling aan t
 afel en klinken door in gedrag\,  concentratie en emoties. In een wereld[..
 ]\nhttps://driegang.nl/cursusaanbod/events/rouw-in-de-klas-2027/
URL:https://driegang.nl/cursusaanbod/events/rouw-in-de-klas-2027/
END:VEVENT
END:VCALENDAR