BEGIN:VCALENDAR
VERSION:2.0
PRODID:-//eventon.com NONSGML v1.0//EN
CALSCALE:GREGORIAN
METHOD:PUBLISH
BEGIN:VEVENT
UID:69e8d56350f7f
DTSTAMP:20260422T140419Z
DTSTART:20260923T140000Z
DTEND:20260923T160000Z
LOCATION:CBS &#039;t Kompas / OBS Sigmondschool in Werkendam Hooftlanden 1\,  4251 BE Werkendam / H.J. Roubosstraat 5\,  4251 BZ Werkendam
SUMMARY:Ronde 1 en 2: Uitreagerend gedrag
DESCRIPTION:RONDE 1 én 2: 16.00 &#8211; 18.00 uur : Uitreagerend gedrag Ti
 jdens deze workshop ga je na wat uitreagerend gedrag (brutaal\,  &#8217;teg
 en&#8217; zijn\,  niet doen wat gevraagd wordt\,  vaak in conflict) met jou
  als leerkracht en als mens doet. We bespreken wat er achter dit gedrag kan
  zitten. En: welke[..]\nhttps://driegang.nl/cursusaanbod/events/ronde-1-en-
 2-uitreagerend-gedrag/
URL:https://driegang.nl/cursusaanbod/events/ronde-1-en-2-uitreagerend-gedrag/
END:VEVENT
END:VCALENDAR