BEGIN:VCALENDAR
VERSION:2.0
PRODID:-//eventon.com NONSGML v1.0//EN
CALSCALE:GREGORIAN
METHOD:PUBLISH
BEGIN:VEVENT
UID:69e8d55f2cb9b
DTSTAMP:20260422T140415Z
DTSTART:20270308T170000Z
DTEND:20270308T203000Z
LOCATION:SWV Driegang Dokter van Stratenweg 15\,  4205 LA Gorinchem
SUMMARY:Workshop 'Taal in blokjes'
DESCRIPTION:In deze workshop leert u hoe u Taal in Blokjes kunt gebruiken o
 p school: individueel\,  in een groepje of in de klas. Taal in Blokjes is e
 en geïntegreerde methode voor lezen en spellen en speciaal ontwikkeld voor
  de begeleiding en behandeling van leerlingen met lees- en spellingprobleme
 n. Taal in Blokjes[..]\nhttps://driegang.nl/cursusaanbod/events/workshop-ta
 al-in-blokjes-2027/
URL:https://driegang.nl/cursusaanbod/events/workshop-taal-in-blokjes-2027/
END:VEVENT
END:VCALENDAR