BEGIN:VCALENDAR
VERSION:2.0
PRODID:-//eventon.com NONSGML v1.0//EN
CALSCALE:GREGORIAN
METHOD:PUBLISH
BEGIN:VEVENT
UID:69e8d4dfe7bbf
DTSTAMP:20260422T140207Z
DTSTART:20260923T150000Z
DTEND:20260923T160000Z
LOCATION:CBS &#039;t Kompas / OBS Sigmondschool in Werkendam Hooftlanden 1\,  4251 BE Werkendam / H.J. Roubosstraat 5\,  4251 BZ Werkendam
SUMMARY:Ronde 2: Prematuriteit
DESCRIPTION:RONDE 2: 17.00 &#8211; 18.00 uur : Prematuriteit &nbsp; Wat bet
 ekenen vroeggeboorte en dysmaturiteit op de lange termijn voor het leren op
  school?  Soms zijn er leerlingen bij wie je aan de buitenkant niets bijzo
 nders ziet\,  maar die tóch vastlopen in het onderwijs. Denk aan problemen
  met automatiseren\,  concentratie\,  prikkelverwerking\, [..]\nhttps://dri
 egang.nl/cursusaanbod/events/ronde-2-prematuriteit/
URL:https://driegang.nl/cursusaanbod/events/ronde-2-prematuriteit/
END:VEVENT
END:VCALENDAR