BEGIN:VCALENDAR
VERSION:2.0
PRODID:-//eventon.com NONSGML v1.0//EN
CALSCALE:GREGORIAN
METHOD:PUBLISH
BEGIN:VEVENT
UID:69e8d4e0b16c1
DTSTAMP:20260422T140208Z
DTSTART:20260923T150000Z
DTEND:20260923T160000Z
LOCATION:CBS &#039;t Kompas / OBS Sigmondschool in Werkendam Hooftlanden 1\,  4251 BE Werkendam / H.J. Roubosstraat 5\,  4251 BZ Werkendam
SUMMARY:Ronde 2: Kennismaken met de BeO-groep
DESCRIPTION:RONDE 2: 17.00 &#8211; 18.00 uur : Kennismaken met de BeO-groep
  &nbsp; Wanneer een kind toe is aan onderwijs\,  maar extra ondersteuning o
 f behandeling nodig heeft\,  wat dan? SWV Driegang en Enver bieden samen de
  Behandel- en Onderwijsgroep (BeO-groep): een plek waar zorg en onderwijs h
 and in hand gaan. In[..]\nhttps://driegang.nl/cursusaanbod/events/ronde-2-b
 eo-groep/
URL:https://driegang.nl/cursusaanbod/events/ronde-2-beo-groep/
END:VEVENT
END:VCALENDAR