BEGIN:VCALENDAR
VERSION:2.0
PRODID:-//eventon.com NONSGML v1.0//EN
CALSCALE:GREGORIAN
METHOD:PUBLISH
BEGIN:VEVENT
UID:69e8d55f415e3
DTSTAMP:20260422T140415Z
DTSTART:20260923T140000Z
DTEND:20260923T150000Z
LOCATION:CBS &#039;t Kompas / OBS Sigmondschool in Werkendam Hooftlanden 1\,  4251 BE Werkendam / H.J. Roubosstraat 5\,  4251 BZ Werkendam
SUMMARY:Ronde 1: Een passend verrijkingsaanbod
DESCRIPTION:RONDE 1: 16.00 &#8211; 17.00 uur : Een passend verrijkingsaanbo
 d &nbsp; Hoe zorg je voor een leerstofaanbod dat aansluit bij de educatieve
  behoeften van jouw begaafde leerling?  In deze workshop staat het samenst
 ellen van een passend verrijkend aanbod centraal\,  waarbij de behoeften va
 n een leerling en de mogelijkheden van de[..]\nhttps://driegang.nl/cursusaa
 nbod/events/ronde-1-een-passend-verrijkingsaanbod/
URL:https://driegang.nl/cursusaanbod/events/ronde-1-een-passend-verrijkingsaanbod/
END:VEVENT
END:VCALENDAR