BEGIN:VCALENDAR
VERSION:2.0
PRODID:-//eventon.com NONSGML v1.0//EN
CALSCALE:GREGORIAN
METHOD:PUBLISH
BEGIN:VEVENT
UID:69e8d4e19edfb
DTSTAMP:20260422T140209Z
DTSTART:20260923T140000Z
DTEND:20260923T150000Z
LOCATION:CBS &#039;t Kompas / OBS Sigmondschool in Werkendam Hooftlanden 1\,  4251 BE Werkendam / H.J. Roubosstraat 5\,  4251 BZ Werkendam
SUMMARY:Ronde 1: Inclusief een ZML-leerling
DESCRIPTION:RONDE 1: 16.00 &#8211; 17.00 uur : Inclusief een ZML-leerling &
 nbsp; Heb jij een leerling in je klas die leert op ZML-niveau en vraag je j
 e af hoe je je onderwijs passend kunt maken? Regelmatig krijgen leerkrachte
 n te maken met leerlingen met zeer moeilijk lerende (ZML) onderwijsbehoefte
 n binnen de reguliere[..]\nhttps://driegang.nl/cursusaanbod/events/ronde-1-
 zml/
URL:https://driegang.nl/cursusaanbod/events/ronde-1-zml/
END:VEVENT
END:VCALENDAR