BEGIN:VCALENDAR
VERSION:2.0
PRODID:-//eventon.com NONSGML v1.0//EN
CALSCALE:GREGORIAN
METHOD:PUBLISH
BEGIN:VEVENT
UID:69e8d53c06834
DTSTAMP:20260422T140340Z
DTSTART:20260923T150000Z
DTEND:20260923T160000Z
LOCATION:CBS &#039;t Kompas / OBS Sigmondschool in Werkendam Hooftlanden 1\,  4251 BE Werkendam / H.J. Roubosstraat 5\,  4251 BZ Werkendam
SUMMARY:Ronde 2: Aan de slag met DCD en motoriek
DESCRIPTION:RONDE 2: 17.00 &#8211; 18.00 uur : Aan de slag met DCD en motor
 iek &nbsp; Onhandig\,  traag of ‘motorisch niet zo sterk’? Of speelt er
  misschien meer? In iedere klas zitten kinderen voor wie bewegen\,  schrijv
 en\,  knutselen of gymen niet vanzelfsprekend is. Taken die voor andere lee
 rlingen moeiteloos lijken\,  kosten[..]\nhttps://driegang.nl/cursusaanbod/e
 vents/ronde-2-aan-de-slag-met-dcd/
URL:https://driegang.nl/cursusaanbod/events/ronde-2-aan-de-slag-met-dcd/
END:VEVENT
END:VCALENDAR