BEGIN:VCALENDAR
VERSION:2.0
PRODID:-//eventon.com NONSGML v1.0//EN
CALSCALE:GREGORIAN
METHOD:PUBLISH
BEGIN:VEVENT
UID:69e8d50d87675
DTSTAMP:20260422T140253Z
DTSTART:20260923T140000Z
DTEND:20260923T150000Z
LOCATION:CBS &#039;t Kompas / OBS Sigmondschool in Werkendam Hooftlanden 1\,  4251 BE Werkendam / H.J. Roubosstraat 5\,  4251 BZ Werkendam
SUMMARY:Ronde 1: Groepsdynamiek
DESCRIPTION:RONDE 1: 16.00 &#8211; 17.00 uur: Groepsdynamiek &nbsp; Ervaar 
 jij onrust in je klas\,  terugkerend pestgedrag\,  weinig luisterbereidheid
  of tegenvallende leerprestaties? Vaak kijken we naar individueel gedrag\, 
  maar wat gebeurt er als je de groepsdynamische bril opzet? Wat vertelt het
  gedrag van leerlingen over de groep als geheel? Welke rollen[..]\nhttps://
 driegang.nl/cursusaanbod/events/ronde-1-groepsdynamiek/
URL:https://driegang.nl/cursusaanbod/events/ronde-1-groepsdynamiek/
END:VEVENT
END:VCALENDAR