BEGIN:VCALENDAR
VERSION:2.0
PRODID:-//eventon.com NONSGML v1.0//EN
CALSCALE:GREGORIAN
METHOD:PUBLISH
BEGIN:VEVENT
UID:69e8d55db1e97
DTSTAMP:20260422T140413Z
DTSTART:20260923T150000Z
DTEND:20260923T160000Z
LOCATION:CBS &#039;t Kompas / OBS Sigmondschool in Werkendam Hooftlanden 1\,  4251 BE Werkendam / H.J. Roubosstraat 5\,  4251 BZ Werkendam
SUMMARY:Ronde 2: Samen op weg naar meer inclusief onderwijs
DESCRIPTION:RONDE 2: 17.00 &#8211; 18.00 uur: Samen op weg naar meer inclus
 ief onderwijs &nbsp; Wat verstaan we eigenlijk onder inclusief onderwijs? E
 n welke beelden\,  aannames en verwachtingen nemen we daarin mee? In deze i
 nteractieve workshop staan we stil bij deze vragen en onderzoeken we samen 
 wat inclusie voor ons persoonlijk[..]\nhttps://driegang.nl/cursusaanbod/eve
 nts/ronde-2-samen-op-weg-naar-meer-inclusief-onderwijs/
URL:https://driegang.nl/cursusaanbod/events/ronde-2-samen-op-weg-naar-meer-inclusief-onderwijs/
END:VEVENT
END:VCALENDAR