BEGIN:VCALENDAR
VERSION:2.0
PRODID:-//eventon.com NONSGML v1.0//EN
CALSCALE:GREGORIAN
METHOD:PUBLISH
BEGIN:VEVENT
UID:69e8d55e6716c
DTSTAMP:20260422T140414Z
DTSTART:20261102T183000Z
DTEND:20261102T200000Z
LOCATION:SWV Driegang Dokter van Stratenweg 15\,  4205 LA Gorinchem
SUMMARY:Een begaafde leerling in jouw klas; ga je de uitdaging aan?
DESCRIPTION:Een begaafde leerling in jouw klas; ga je de uitdaging aan? Een
  cursus voor leerkrachten die passend onderwijs willen bieden aan leerlinge
 n met kenmerken van begaafdheid. &nbsp; Begaafde leerlingen brengen een rij
 ke variatie aan leerbehoeften met zich mee. Om ook deze leerlingen tot hun 
 recht te laten komen\,  is het[..]\nhttps://driegang.nl/cursusaanbod/events
 /begaafde-leerling-in-jouw-klas/
URL:https://driegang.nl/cursusaanbod/events/begaafde-leerling-in-jouw-klas/
END:VEVENT
END:VCALENDAR