BEGIN:VCALENDAR
VERSION:2.0
PRODID:-//eventon.com NONSGML v1.0//EN
CALSCALE:GREGORIAN
METHOD:PUBLISH
BEGIN:VEVENT
UID:69e8d4ddc256a
DTSTAMP:20260422T140205Z
DTSTART:20261012T143000Z
DTEND:20261012T180000Z
LOCATION:SWV Driegang Dokter van Stratenweg 15\,  4205 LA Gorinchem
SUMMARY:Verdiepingsbijeenkomst voor kartrekkers begaafdheid
DESCRIPTION:Verdiepingsbijeenkomst voor kartrekkers begaafdheid Verdiepings
 avonden voor kartrekkers begaafdheid in de basisschool gericht op verdiepin
 g van kennis\,  intervisie\,  ontmoeting en uitwisseling. &nbsp; Doelgroep:
  Specialisten begaafdheid met een coÃ¶rdinerende taak op schoolniveau. &nbs
 p; Ben jij een specialist begaafdheid en heb jij binnen jouw school een coÃ
 ¶rdinerende rol om goed onderwijs voor begaafde[..]\nhttps://driegang.nl/cu
 rsusaanbod/events/verdieping-kartrekkers-begaafdheid/
URL:https://driegang.nl/cursusaanbod/events/verdieping-kartrekkers-begaafdheid/
END:VEVENT
END:VCALENDAR