BEGIN:VCALENDAR
VERSION:2.0
PRODID:-//eventon.com NONSGML v1.0//EN
CALSCALE:GREGORIAN
METHOD:PUBLISH
BEGIN:VEVENT
UID:69e8d56334acb
DTSTAMP:20260422T140419Z
DTSTART:20270316T143000Z
DTEND:20270316T160000Z
LOCATION:Het Bruisend Hart DirkIV plein 32\,  4223 NJ Hoornaar
SUMMARY:Inspiratiemiddag begaafdheid: KansRIJK onderwijs 
DESCRIPTION:Inspiratiemiddag begaafdheid &#8211; Thema: KansRIJK onderwijs 
 Inspirerende themamiddag voor leerkrachten die inspiratie zoeken voor inclu
 sief onderwijs aan begaafde leerlingen Hoe zorgen we voor een onderwijsaanb
 od dat recht doet aan begaafde leerlingen in een inclusieve leeromgeving? R
 ond dit centrale thema organiseert de Driegangacademie één keer per jaar 
 een inspirerende themamiddag voor[..]\nhttps://driegang.nl/cursusaanbod/eve
 nts/inspiratiemiddag-begaafheid/
URL:https://driegang.nl/cursusaanbod/events/inspiratiemiddag-begaafheid/
END:VEVENT
END:VCALENDAR