BEGIN:VCALENDAR
VERSION:2.0
PRODID:-//eventon.com NONSGML v1.0//EN
CALSCALE:GREGORIAN
METHOD:PUBLISH
BEGIN:VEVENT
UID:69e8d509095cf
DTSTAMP:20260422T140249Z
DTSTART:20260923T140000Z
DTEND:20260923T150000Z
LOCATION:CBS &#039;t Kompas / OBS Sigmondschool in Werkendam Hooftlanden 1\,  4251 BE Werkendam / H.J. Roubosstraat 5\,  4251 BZ Werkendam
SUMMARY:Ronde 1: Een NT2-kleuter in je groep
DESCRIPTION:RONDE 1: 16.00 &#8211; 17.00 uur: Een NT2-kleuter in je groep 
 – wat kun je morgen al doen? &nbsp; Heb jij één of meerdere NT2-kleuter
 s in je groep en vraag je je af hoe je jouw onderwijs zo kunt inrichten dat
  zij écht meekomen? In deze workshop nemen we je in[..]\nhttps://driegang.
 nl/cursusaanbod/events/ronde-1-een-nt2-kleuter/
URL:https://driegang.nl/cursusaanbod/events/ronde-1-een-nt2-kleuter/
END:VEVENT
END:VCALENDAR