BEGIN:VCALENDAR
VERSION:2.0
PRODID:-//eventon.com NONSGML v1.0//EN
CALSCALE:GREGORIAN
METHOD:PUBLISH
BEGIN:VEVENT
UID:69e8d4ddc2f99
DTSTAMP:20260422T140205Z
DTSTART:20261006T170000Z
DTEND:20261006T193000Z
LOCATION:SWV Driegang Dokter van Stratenweg 15\,  4205 LA Gorinchem
SUMMARY:Naar een inclusieve leeromgeving\,  de volgende stap
DESCRIPTION:Inclusief onderwijs Voor de één is het een breed begrip dat n
 og vragen oproept\,  voor de ander een duidelijke en inspirerende richting.
  De afgelopen jaren heeft inclusief onderwijs in Nederland een sterke ontwi
 kkeling doorgemaakt. Waar we begonnen met passend onderwijs\,  zetten we nu
  steeds meer stappen richting een inclusieve leeromgeving.[..]\nhttps://dri
 egang.nl/cursusaanbod/events/inclusieve-leeromgeving/
URL:https://driegang.nl/cursusaanbod/events/inclusieve-leeromgeving/
END:VEVENT
END:VCALENDAR