BEGIN:VCALENDAR
VERSION:2.0
PRODID:-//eventon.com NONSGML v1.0//EN
CALSCALE:GREGORIAN
METHOD:PUBLISH
BEGIN:VEVENT
UID:69e8d50ea93a7
DTSTAMP:20260422T140254Z
DTSTART:20270217T180000Z
DTEND:20270217T203000Z
LOCATION:SWV Driegang Dokter van Stratenweg 15\,  4205 LA Gorinchem
SUMMARY:Met Sprongen Vooruit - groep 1 en 2
DESCRIPTION:Inhoud van de basiscursus &#8216;Met Sprongen Vooruit&#8217; &#
 8211; groep 1 en 2 Bijeenkomst 1: Vormen van tellen en getalaspecten Kennis
  van de domeinen van de kleuterwiskunde Kundigheid in hanteren wiskundige b
 egrippen Passend inzetten van activiteiten Tellen-en-rekenen Bijeenkomst 2:
  Interventies formuleren tijdens activiteiten en spellen Niveaus in Tellen-
 en-rekenen onderscheiden Vormen van[..]\nhttps://driegang.nl/cursusaanbod/e
 vents/met-sprongen-vooruit-groep-1-en-2/
URL:https://driegang.nl/cursusaanbod/events/met-sprongen-vooruit-groep-1-en-2/
END:VEVENT
END:VCALENDAR