BEGIN:VCALENDAR
VERSION:2.0
PRODID:-//eventon.com NONSGML v1.0//EN
CALSCALE:GREGORIAN
METHOD:PUBLISH
BEGIN:VEVENT
UID:69e8d50868416
DTSTAMP:20260422T140248Z
DTSTART:20261209T140000Z
DTEND:20261209T160000Z
LOCATION:SWV Driegang Dokter van Stratenweg 15\,  4205 LA Gorinchem
SUMMARY:Intervisie voor OA: BASIS-training didactiek en pedagogiek
DESCRIPTION:Basistraining Didactiek en pedagogiek voor onderwijsassistenten
  Als onderwijsassistent ben jij een onmisbare schakel in het realiseren van
  inclusiever onderwijs. In jouw dagelijkse contact met leerlingen maak jij 
 vaak het verschil — soms met iets kleins: een opmerking\,  een vraag\,  e
 en blik of een duidelijke instructie. Tijdens deze intervisiebijeenkomst s
 taan we stil[..]\nhttps://driegang.nl/cursusaanbod/events/intervisie-voor-o
 a-basis-didactiek-en-pedagogiek/
URL:https://driegang.nl/cursusaanbod/events/intervisie-voor-oa-basis-didactiek-en-pedagogiek/
END:VEVENT
END:VCALENDAR