BEGIN:VCALENDAR
VERSION:2.0
PRODID:-//eventon.com NONSGML v1.0//EN
CALSCALE:GREGORIAN
METHOD:PUBLISH
BEGIN:VEVENT
UID:69e8d50c61b19
DTSTAMP:20260422T140252Z
DTSTART:20270407T130000Z
DTEND:20270407T150000Z
LOCATION:SWV Driegang Dokter van Stratenweg 15\,  4205 LA Gorinchem
SUMMARY:Intervisie voor OA: VERVOLG-training didactiek en pedagogiek (2)
DESCRIPTION:Vervolgtraining &#8216;Didactiek en pedagogiek&#8217; voor onde
 rwijsassistenten (2) In de basistraining hebben we stilgestaan bij jouw rol
  als onderwijsassistent en de impact die jij dagelijks hebt op leerlingen e
 n het leerklimaat. In deze vervolgtraining bouwen we hierop voort. Als onde
 rwijsassistent blijf jij een onmisbare schakel in het realiseren van inclus
 iever onderwijs.[..]\nhttps://driegang.nl/cursusaanbod/events/intervisie-vo
 or-oa-vervolg-training-didactiek-en-pedagogiek-2/
URL:https://driegang.nl/cursusaanbod/events/intervisie-voor-oa-vervolg-training-didactiek-en-pedagogiek-2/
END:VEVENT
END:VCALENDAR