BEGIN:VCALENDAR
VERSION:2.0
PRODID:-//eventon.com NONSGML v1.0//EN
CALSCALE:GREGORIAN
METHOD:PUBLISH
BEGIN:VEVENT
UID:69e8d55e37e38
DTSTAMP:20260422T140414Z
DTSTART:20270203T180000Z
DTEND:20270203T203000Z
LOCATION:SWV Driegang Dokter van Stratenweg 15\,  4205 LA Gorinchem
SUMMARY:Met Sprongen Vooruit - groep 3 en 4
DESCRIPTION:Inhoud van de basiscursus &#8216;Met Sprongen Vooruit&#8217; &#
 8211; groep 3 en 4 Bijeenkomst 1: Strategieën en modellen voor rekenen tot
  100 Verschil tussen memoriseren en automatiseren Reken-wiskundelessen in d
 rie basale vaardigheden ten aanzien van getallen Bijeenkomst 2: Reken-wisku
 ndelessen in drie basale vaardigheden ten aanzien van bewerkingen met getal
 len Gebruik van[..]\nhttps://driegang.nl/cursusaanbod/events/met-sprongen-v
 ooruit-groep-3-en-4/
URL:https://driegang.nl/cursusaanbod/events/met-sprongen-vooruit-groep-3-en-4/
END:VEVENT
END:VCALENDAR