BEGIN:VCALENDAR
VERSION:2.0
PRODID:-//eventon.com NONSGML v1.0//EN
CALSCALE:GREGORIAN
METHOD:PUBLISH
BEGIN:VEVENT
UID:69e8d50e38f66
DTSTAMP:20260422T140254Z
DTSTART:20270303T180000Z
DTEND:20270303T203000Z
LOCATION:SWV Driegang Dokter van Stratenweg 15\,  4205 LA Gorinchem
SUMMARY:Met Sprongen Vooruit - groep 5 en 6
DESCRIPTION:Inhoud van de basiscursus &#8216;Met Sprongen Vooruit&#8217; &#
 8211; groep 5 en 6 &nbsp; Bijeenkomst 1: Rekenbasis groep 5 en 6 met reken-
 wiskundelessen om beredeneerd in te zetten Intern conflict opzoeken bij fou
 ten en formuleren van (overige) interventies Eigen producties laten maken B
 ijeenkomst 2: Lessen verzorgen met de bal voor het[..]\nhttps://driegang.nl
 /cursusaanbod/events/met-sprongen-vooruit-groep-5-en-6/
URL:https://driegang.nl/cursusaanbod/events/met-sprongen-vooruit-groep-5-en-6/
END:VEVENT
END:VCALENDAR