BEGIN:VCALENDAR
VERSION:2.0
PRODID:-//eventon.com NONSGML v1.0//EN
CALSCALE:GREGORIAN
METHOD:PUBLISH
BEGIN:VEVENT
UID:69e8d50a89b70
DTSTAMP:20260422T140250Z
DTSTART:20270202T180000Z
DTEND:20270202T203000Z
LOCATION:SWV Driegang Dokter van Stratenweg 15\,  4205 LA Gorinchem
SUMMARY:Met Sprongen Vooruit - groep 7 en 8
DESCRIPTION:Inhoud van de basiscursus &#8216;Met Sprongen Vooruit&#8217; &#
 8211; groep 7 en 8 &nbsp; Bijeenkomst 1: Breuken Inzicht in en overzicht va
 n de leerlijn breuken Modelcontexten en ondersteunende modellen effectief i
 nzetten Productieve reken-wiskundelessen in de leerlijn &nbsp; Bijeenkomst 
 2: Kommagetallen Inzicht in en overzicht van de leerlijn kommagetallen Verb
 inding kommagetallen met[..]\nhttps://driegang.nl/cursusaanbod/events/met-s
 prongen-vooruit-groep-7-en-8/
URL:https://driegang.nl/cursusaanbod/events/met-sprongen-vooruit-groep-7-en-8/
END:VEVENT
END:VCALENDAR