BEGIN:VCALENDAR
VERSION:2.0
PRODID:-//eventon.com NONSGML v1.0//EN
CALSCALE:GREGORIAN
METHOD:PUBLISH
BEGIN:VEVENT
UID:69e8d4e041bdd
DTSTAMP:20260422T140208Z
DTSTART:20270406T070000Z
DTEND:20270406T090000Z
LOCATION:ZML De Cirkel Stalkaarsen 17B\,  4205 PG Gorinchem
SUMMARY:Gluren bij de buren – De Cirkel ZML
DESCRIPTION:Gluren bij de buren – Neem een kijkje bij De Cirkel ZML Ben j
 ij benieuwd hoe het eraan toegaat binnen het speciaal onderwijs? Grijp dan 
 nu je kans! Op 6 april 2027 van 9.00 tot 11.00 uur organiseren we een “G
 luren bij de buren” bij De Cirkel ZML in Gorinchem. Tijdens deze[..]\nht
 tps://driegang.nl/cursusaanbod/events/gluren-bij-de-cirkel/
URL:https://driegang.nl/cursusaanbod/events/gluren-bij-de-cirkel/
END:VEVENT
END:VCALENDAR