BEGIN:VCALENDAR
VERSION:2.0
PRODID:-//eventon.com NONSGML v1.0//EN
CALSCALE:GREGORIAN
METHOD:PUBLISH
BEGIN:VEVENT
UID:69e8d50e1f03d
DTSTAMP:20260422T140254Z
DTSTART:20260917T110000Z
DTEND:20260917T123000Z
LOCATION:SWV Driegang Dokter van Stratenweg 15\,  4205 LA Gorinchem
SUMMARY:Grip op AI â€“ voor administratief medewerkers
DESCRIPTION:Grip op AI â€“Â  voor administratief medewerkers &nbsp; EfficiÃ
 «ntie in organisatie en communicatie AI is overal om ons heen. Maar hoe zor
 g jij ervoor dat het geen extra ruis of onzekerheid oplevert\,  maar juist 
 rust\,  overzicht en tijdswinst? In deze sessie staat Ã©Ã©n doel centraal: 
 de drempel verlagen\,  de privacy[..]\nhttps://driegang.nl/cursusaanbod/eve
 nts/ai-administratief-medewerkers/
URL:https://driegang.nl/cursusaanbod/events/ai-administratief-medewerkers/
END:VEVENT
END:VCALENDAR