BEGIN:VCALENDAR
VERSION:2.0
PRODID:-//eventon.com NONSGML v1.0//EN
CALSCALE:GREGORIAN
METHOD:PUBLISH
BEGIN:VEVENT
UID:69e8d53c46cd1
DTSTAMP:20260422T140340Z
DTSTART:20261001T170000Z
DTEND:20261001T183000Z
LOCATION:SWV Driegang Dokter van Stratenweg 15\,  4205 LA Gorinchem
SUMMARY:Grip op AI – Leerkracht onderbouw
DESCRIPTION:Grip op AI &#8211; voor leerkrachten in de onderbouw &nbsp; Cre
 ativiteit en differentiatie in de les AI wordt een vanzelfsprekend onderdee
 l van de wereld waarin jouw leerlingen opgroeien. Hoe zorg jij dat je daari
 n zelfverzekerd en veilig kunt handelen? In deze sessie staat één doel ce
 ntraal: de drempel verlagen\,  de[..]\nhttps://driegang.nl/cursusaanbod/eve
 nts/grip-op-ai-voor-lkr-ob/
URL:https://driegang.nl/cursusaanbod/events/grip-op-ai-voor-lkr-ob/
END:VEVENT
END:VCALENDAR