BEGIN:VCALENDAR
VERSION:2.0
PRODID:-//eventon.com NONSGML v1.0//EN
CALSCALE:GREGORIAN
METHOD:PUBLISH
BEGIN:VEVENT
UID:69e8d55e40a39
DTSTAMP:20260422T140414Z
DTSTART:20261008T170000Z
DTEND:20261008T183000Z
LOCATION:SWV Driegang Dokter van Stratenweg 15\,  4205 LA Gorinchem
SUMMARY:Grip op AI – Leerkracht midden- en bovenbouw
DESCRIPTION:Grip op AI – voor leerkrachten in de midden- en bovenbouw &nb
 sp; AI inzetten rondom het maken van een werkstuk AI speelt een steeds grot
 ere rol in de samenleving — en dus ook in jouw klas. Hoe begeleid jij lee
 rlingen hierin op een manier die verantwoord\,  kritisch en toekomstgericht
  is?[..]\nhttps://driegang.nl/cursusaanbod/events/grip-op-ai-voor-lkr-mb-en
 -bb/
URL:https://driegang.nl/cursusaanbod/events/grip-op-ai-voor-lkr-mb-en-bb/
END:VEVENT
END:VCALENDAR