BEGIN:VCALENDAR
VERSION:2.0
PRODID:-//eventon.com NONSGML v1.0//EN
CALSCALE:GREGORIAN
METHOD:PUBLISH
BEGIN:VEVENT
UID:69e8d5088bb53
DTSTAMP:20260422T140248Z
DTSTART:20260917T090000Z
DTEND:20260917T103000Z
LOCATION:SWV Driegang Dokter van Stratenweg 15\,  4205 LA Gorinchem
SUMMARY:Grip op AI – Ambulant begeleiders / intern begeleiders
DESCRIPTION:Grip op AI – voor ambulant begeleiders / intern begeleiders &
 nbsp; AI als professionele sparringpartner In een werkveld waarin precisie\
 ,  zorgvuldigheid en privacy essentieel zijn\,  kan AI een waardevolle onde
 rsteuning zijn — mits je weet hoe je het veilig inzet. Het doel van deze 
 sessie is om de drempel te[..]\nhttps://driegang.nl/cursusaanbod/events/gri
 p-op-ai-expertisecentrum/
URL:https://driegang.nl/cursusaanbod/events/grip-op-ai-expertisecentrum/
END:VEVENT
END:VCALENDAR